BEGIN:VCALENDAR
VERSION:2.0
PRODID:-//SV Wersten 1964 e.V. - ECPv6.15.14//NONSGML v1.0//EN
CALSCALE:GREGORIAN
METHOD:PUBLISH
X-WR-CALNAME:SV Wersten 1964 e.V.
X-ORIGINAL-URL:https://svwersten.de
X-WR-CALDESC:Veranstaltungen für SV Wersten 1964 e.V.
REFRESH-INTERVAL;VALUE=DURATION:PT1H
X-Robots-Tag:noindex
X-PUBLISHED-TTL:PT1H
BEGIN:VTIMEZONE
TZID:Europe/Berlin
BEGIN:DAYLIGHT
TZOFFSETFROM:+0100
TZOFFSETTO:+0200
TZNAME:CEST
DTSTART:20180325T010000
END:DAYLIGHT
BEGIN:STANDARD
TZOFFSETFROM:+0200
TZOFFSETTO:+0100
TZNAME:CET
DTSTART:20181028T010000
END:STANDARD
BEGIN:DAYLIGHT
TZOFFSETFROM:+0100
TZOFFSETTO:+0200
TZNAME:CEST
DTSTART:20190331T010000
END:DAYLIGHT
BEGIN:STANDARD
TZOFFSETFROM:+0200
TZOFFSETTO:+0100
TZNAME:CET
DTSTART:20191027T010000
END:STANDARD
BEGIN:DAYLIGHT
TZOFFSETFROM:+0100
TZOFFSETTO:+0200
TZNAME:CEST
DTSTART:20200329T010000
END:DAYLIGHT
BEGIN:STANDARD
TZOFFSETFROM:+0200
TZOFFSETTO:+0100
TZNAME:CET
DTSTART:20201025T010000
END:STANDARD
END:VTIMEZONE
BEGIN:VEVENT
DTSTART;TZID=Europe/Berlin:20191205T180000
DTEND;TZID=Europe/Berlin:20191205T230000
DTSTAMP:20260421T122359
CREATED:20191118T140823Z
LAST-MODIFIED:20191118T140823Z
UID:1304-1575568800-1575586800@svwersten.de
SUMMARY:Nikolaus-Turnier 2019
DESCRIPTION:Liebe Schachfreunde\, \nam Donnerstag den 05. Dezember findet unser diesjähriges Nikolaus-Turnier in unserem Spiellokal in Wersten statt.\nWir starten um 18:00 Uhr mit einem Turnier für unsere Jugendlichen. Der Gewinner erhält einen Preis. Alle anderen Teilnehmer erhalten ein Nikolauspräsent.\nUm 19:30 Uhr beginnt dann unser alljährliches Nikolaus-Blitzturnier\, an dem selbstverständlich auch Jugendliche teilnehmen können.\nEs ist bereits ein schöner Brauch\, dass jeder erwachsene Turnierteilnehmer ein Geschenk im Wert von ca. 3\,00 – 5\,00 € mitbringt. \nWir freuen uns auf viele Teilnehmer und Gäste\, und einen stimmungsvollen Abend.
URL:https://svwersten.de/event/nikolaus-turnier-2019/
LOCATION:SV Wersten 1964 – Caritas zentrum plus Wersten\, Liebfrauenstr. 30\, Düsseldorf\, 40591\, Deutschland
CATEGORIES:Turnier
ATTACH;FMTTYPE=image/jpeg:https://svwersten.de/wp-content/uploads/2019/11/Nikolaus-Turnier.jpg
ORGANIZER;CN="SV Wersten 1964":MAILTO:info@svwersten.de
END:VEVENT
BEGIN:VEVENT
DTSTART;TZID=Europe/Berlin:20191208T100000
DTEND;TZID=Europe/Berlin:20191208T170000
DTSTAMP:20260421T122359
CREATED:20190917T113103Z
LAST-MODIFIED:20190917T113103Z
UID:1186-1575799200-1575824400@svwersten.de
SUMMARY:Mannschaftskampf: SV Wersten III vs. DSV 1854 VII
DESCRIPTION:Runde 4 im Mannschaftskampf. Diesmal spielen der SV Wersten III gegen den DSV 1854 VII.
URL:https://svwersten.de/event/mannschaftskampf-sv-wersten-iii-vs-dsv-1854-vii/
LOCATION:SV Wersten 1964 – Caritas zentrum plus Wersten\, Liebfrauenstr. 30\, Düsseldorf\, 40591\, Deutschland
CATEGORIES:Mannschaftskampf
ATTACH;FMTTYPE=image/jpeg:https://svwersten.de/wp-content/uploads/2019/09/werstenIII.jpg
ORGANIZER;CN="SV Wersten 1964":MAILTO:info@svwersten.de
END:VEVENT
BEGIN:VEVENT
DTSTART;TZID=Europe/Berlin:20191208T100000
DTEND;TZID=Europe/Berlin:20191208T170000
DTSTAMP:20260421T122359
CREATED:20190917T113536Z
LAST-MODIFIED:20190917T114826Z
UID:1188-1575799200-1575824400@svwersten.de
SUMMARY:Mannschaftskampf: SC Erkrath IV vs. SV Wersten II
DESCRIPTION:Runde 4 im Mannschaftskampf. Diesmal spielt der SC Erkrath IV gegen den SV Wersten II.
URL:https://svwersten.de/event/mannschaftskampf-sc-erkrath-iv-vs-sv-wersten-ii/
LOCATION:SC Erkrath\, Gerberstr. 7\, Erkrath\, NRW\, 40699\, Deutschland
CATEGORIES:Mannschaftskampf
ATTACH;FMTTYPE=image/jpeg:https://svwersten.de/wp-content/uploads/2019/09/werstenII.jpg
ORGANIZER;CN="Schachclub Erkrath":MAILTO:vorstand@sc-erkrath.de
END:VEVENT
BEGIN:VEVENT
DTSTART;TZID=Europe/Berlin:20191212T193000
DTEND;TZID=Europe/Berlin:20191212T210000
DTSTAMP:20260421T122359
CREATED:20191109T071024Z
LAST-MODIFIED:20191109T071024Z
UID:1287-1576179000-1576184400@svwersten.de
SUMMARY:Monatsblitzturnier
DESCRIPTION:Heute findet wieder das monatliche Blitzturnier in den Räumlichkeiten des SV Wersten 1964 statt. Teilnehmen können sowohl Mitglieder\, als auch Gäste. Die Teilnahme ist kostenlos.
URL:https://svwersten.de/event/monatsblitzturnier/
LOCATION:SV Wersten 1964 – Caritas zentrum plus Wersten\, Liebfrauenstr. 30\, Düsseldorf\, 40591\, Deutschland
CATEGORIES:Turnier
ATTACH;FMTTYPE=image/jpeg:https://svwersten.de/wp-content/uploads/2019/11/Monatsblitz.jpg
ORGANIZER;CN="SV Wersten 1964":MAILTO:info@svwersten.de
END:VEVENT
BEGIN:VEVENT
DTSTART;TZID=Europe/Berlin:20191215T100000
DTEND;TZID=Europe/Berlin:20191215T170000
DTSTAMP:20260421T122359
CREATED:20190917T134755Z
LAST-MODIFIED:20190917T134755Z
UID:1211-1576404000-1576429200@svwersten.de
SUMMARY:Mannschaftskampf: Ratinger SK IV vs. SV Wersten I
DESCRIPTION:Runde 4 im Mannschaftskampf. Diesmal spielen der Ratinger SK IV gegen den SV Wersten I.
URL:https://svwersten.de/event/mannschaftskampf-ratinger-sk-iv-vs-sv-wersten-i/
LOCATION:Ratinger Schachklub 1950 e. V.\, Stadionring 9\, Ratingen\, NRW\, 40878\, Deutschland
CATEGORIES:Mannschaftskampf
ATTACH;FMTTYPE=image/jpeg:https://svwersten.de/wp-content/uploads/2019/09/werstenI.jpg
END:VEVENT
BEGIN:VEVENT
DTSTART;TZID=Europe/Berlin:20191219T180000
DTEND;TZID=Europe/Berlin:20191219T200000
DTSTAMP:20260421T122359
CREATED:20190917T120650Z
LAST-MODIFIED:20191109T065554Z
UID:1199-1576778400-1576785600@svwersten.de
SUMMARY:Training (Partien\, Analysen und Puzzle)
DESCRIPTION:Heute findet wieder ein organisiertes Training im SV Wersten 1964. Unser Verein verfügt nun über die nötigen elektronischen Medien\, so dass wir mit Beamer und Laptop gemeinsam Partien aus den Manschaftskämpfen und dem DWZ-Cup 2019 analysieren und bewerten können.
URL:https://svwersten.de/event/training-partien-analysen-und-puzzle-5/
LOCATION:SV Wersten 1964 – Caritas zentrum plus Wersten\, Liebfrauenstr. 30\, Düsseldorf\, 40591\, Deutschland
CATEGORIES:Training
ATTACH;FMTTYPE=image/jpeg:https://svwersten.de/wp-content/uploads/2019/07/Titel-1.jpg
ORGANIZER;CN="SV Wersten 1964":MAILTO:info@svwersten.de
END:VEVENT
END:VCALENDAR