BEGIN:VCALENDAR
VERSION:2.0
PRODID:-//SV Wersten 1964 e.V. - ECPv6.15.14//NONSGML v1.0//EN
CALSCALE:GREGORIAN
METHOD:PUBLISH
X-WR-CALNAME:SV Wersten 1964 e.V.
X-ORIGINAL-URL:https://svwersten.de
X-WR-CALDESC:Veranstaltungen für SV Wersten 1964 e.V.
REFRESH-INTERVAL;VALUE=DURATION:PT1H
X-Robots-Tag:noindex
X-PUBLISHED-TTL:PT1H
BEGIN:VTIMEZONE
TZID:Europe/Berlin
BEGIN:DAYLIGHT
TZOFFSETFROM:+0100
TZOFFSETTO:+0200
TZNAME:CEST
DTSTART:20190331T010000
END:DAYLIGHT
BEGIN:STANDARD
TZOFFSETFROM:+0200
TZOFFSETTO:+0100
TZNAME:CET
DTSTART:20191027T010000
END:STANDARD
BEGIN:DAYLIGHT
TZOFFSETFROM:+0100
TZOFFSETTO:+0200
TZNAME:CEST
DTSTART:20200329T010000
END:DAYLIGHT
BEGIN:STANDARD
TZOFFSETFROM:+0200
TZOFFSETTO:+0100
TZNAME:CET
DTSTART:20201025T010000
END:STANDARD
BEGIN:DAYLIGHT
TZOFFSETFROM:+0100
TZOFFSETTO:+0200
TZNAME:CEST
DTSTART:20210328T010000
END:DAYLIGHT
BEGIN:STANDARD
TZOFFSETFROM:+0200
TZOFFSETTO:+0100
TZNAME:CET
DTSTART:20211031T010000
END:STANDARD
END:VTIMEZONE
BEGIN:VEVENT
DTSTART;TZID=Europe/Berlin:20200123T190000
DTEND;TZID=Europe/Berlin:20200123T200000
DTSTAMP:20260421T105449
CREATED:20200111T190135Z
LAST-MODIFIED:20200112T060205Z
UID:1460-1579806000-1579809600@svwersten.de
SUMMARY:"Guess the next move!" im SV Wersten 1964
DESCRIPTION:Heute startet zum 1. Mal das neue Format: „Guess the next move!“ im SV Wersten 1964. \nBei „Guess the next move!“ schauen wir uns gemeinsam eine Meisterpartie an\, blenden aber die nächsten Zügen aus. Bei diesem Spiel geht es also darum\, den nächsten Zug zu erraten. Diesen möglichen nächsten Zug\, trägt sich jeder Mitspieler auf sein Partieblatt ein. So schaut man sich eine solche Meisterpartie nicht nur an\, sondern überlegt selbst\, was man in der jeweiligen Stellung spielen würde\, und was wohl der beste Zug ist. Stimmt der geratene Zug mit dem tatsächlich gespielten Zug überein\, so erhält man 1 Punkt. Ist der Zug falsch\, gibt es 0 Punkte. Ist der Zug zwar nicht in der Partie gespielt worden\, aber die Engine (Stockfish) hält ihn für stark\, so gibt es 1/2 Punkt. Gewonnen hat\, wer am Ende die meisten Züge erraten konnte. \nMitmachen dürfen sowohl Mitglieder als auch Gäste\, und es gibt für den Sieger einen kleinen Preis zu gewinnen. Mitmachen lohnt sich!
URL:https://svwersten.de/event/guess-the-next-move-im-sv-wersten-1964/
LOCATION:SV Wersten 1964 – Caritas zentrum plus Wersten\, Liebfrauenstr. 30\, Düsseldorf\, 40591\, Deutschland
CATEGORIES:Training
ATTACH;FMTTYPE=image/jpeg:https://svwersten.de/wp-content/uploads/2020/01/guessthenextmove.jpg
ORGANIZER;CN="SV Wersten 1964":MAILTO:info@svwersten.de
END:VEVENT
END:VCALENDAR