BEGIN:VCALENDAR
VERSION:2.0
PRODID:-//SV Wersten 1964 e.V. - ECPv6.15.14//NONSGML v1.0//EN
CALSCALE:GREGORIAN
METHOD:PUBLISH
X-ORIGINAL-URL:https://svwersten.de
X-WR-CALDESC:Veranstaltungen für SV Wersten 1964 e.V.
REFRESH-INTERVAL;VALUE=DURATION:PT1H
X-Robots-Tag:noindex
X-PUBLISHED-TTL:PT1H
BEGIN:VTIMEZONE
TZID:Europe/Berlin
BEGIN:DAYLIGHT
TZOFFSETFROM:+0100
TZOFFSETTO:+0200
TZNAME:CEST
DTSTART:20190331T010000
END:DAYLIGHT
BEGIN:STANDARD
TZOFFSETFROM:+0200
TZOFFSETTO:+0100
TZNAME:CET
DTSTART:20191027T010000
END:STANDARD
BEGIN:DAYLIGHT
TZOFFSETFROM:+0100
TZOFFSETTO:+0200
TZNAME:CEST
DTSTART:20200329T010000
END:DAYLIGHT
BEGIN:STANDARD
TZOFFSETFROM:+0200
TZOFFSETTO:+0100
TZNAME:CET
DTSTART:20201025T010000
END:STANDARD
BEGIN:DAYLIGHT
TZOFFSETFROM:+0100
TZOFFSETTO:+0200
TZNAME:CEST
DTSTART:20210328T010000
END:DAYLIGHT
BEGIN:STANDARD
TZOFFSETFROM:+0200
TZOFFSETTO:+0100
TZNAME:CET
DTSTART:20211031T010000
END:STANDARD
END:VTIMEZONE
BEGIN:VEVENT
DTSTART;TZID=Europe/Berlin:20200116T193000
DTEND;TZID=Europe/Berlin:20200116T230000
DTSTAMP:20260421T145632
CREATED:20191214T083320Z
LAST-MODIFIED:20191214T083543Z
UID:1403-1579203000-1579215600@svwersten.de
SUMMARY:Tandemschach-Turnier
DESCRIPTION:Heute findet das 1. Tandemschach-Turnier in den Räumlichkeiten des SV Wersten 1964 statt. Diese verrückte Variante des Schach ist ein Teamspiel. Wikipedia schreibt dazu: \n„Das Tandemschach (im Englischen Bughouse Chess\, auch Austauschschach\, Konferenz oder Berliner Vierer genannt) ist eine Variante des Schach\, bei dem sich an zwei Schachbrettern vier Spieler\, jeweils zwei nebeneinander sitzend zusammen als Team\, gegeneinander spielen. Jeder einzelne Spieler spielt mit seinem Teamkollegen (der die andere Spielfarbe hat) gegen seinen direkten Brettgegner\, dessen schräg sitzenden Teampartner und gegen die Zeit. Gewonnen hat ein Team\, wenn das gegnerische Team aufgibt\, bei dessen Zeitüberschreitung oder einem einzelnen Brettmatt. Grundsätzlich gelten die normalen Regeln des Weltschachbunds FIDE. \nWird jedoch eine Figur geschlagen\, wird diese zum Partner gereicht\, der sie an Stelle eines Zuges auf seinem eigenen Brett auf einem freien Feld einsetzen darf. Für das Einsetzen von Figuren gelten besondere Regeln […].“ \nQuelle: Tandemschach
URL:https://svwersten.de/event/tandemschach-turnier/
LOCATION:SV Wersten 1964 – Caritas zentrum plus Wersten\, Liebfrauenstr. 30\, Düsseldorf\, 40591\, Deutschland
CATEGORIES:Turnier
ATTACH;FMTTYPE=image/jpeg:https://svwersten.de/wp-content/uploads/2019/12/Tandemturnier.jpg
ORGANIZER;CN="SV Wersten 1964":MAILTO:info@svwersten.de
END:VEVENT
END:VCALENDAR