BEGIN:VCALENDAR
VERSION:2.0
PRODID:-//SV Wersten 1964 e.V. - ECPv6.15.14//NONSGML v1.0//EN
CALSCALE:GREGORIAN
METHOD:PUBLISH
X-ORIGINAL-URL:https://svwersten.de
X-WR-CALDESC:Veranstaltungen für SV Wersten 1964 e.V.
REFRESH-INTERVAL;VALUE=DURATION:PT1H
X-Robots-Tag:noindex
X-PUBLISHED-TTL:PT1H
BEGIN:VTIMEZONE
TZID:Europe/Berlin
BEGIN:DAYLIGHT
TZOFFSETFROM:+0100
TZOFFSETTO:+0200
TZNAME:CEST
DTSTART:20190331T010000
END:DAYLIGHT
BEGIN:STANDARD
TZOFFSETFROM:+0200
TZOFFSETTO:+0100
TZNAME:CET
DTSTART:20191027T010000
END:STANDARD
BEGIN:DAYLIGHT
TZOFFSETFROM:+0100
TZOFFSETTO:+0200
TZNAME:CEST
DTSTART:20200329T010000
END:DAYLIGHT
BEGIN:STANDARD
TZOFFSETFROM:+0200
TZOFFSETTO:+0100
TZNAME:CET
DTSTART:20201025T010000
END:STANDARD
BEGIN:DAYLIGHT
TZOFFSETFROM:+0100
TZOFFSETTO:+0200
TZNAME:CEST
DTSTART:20210328T010000
END:DAYLIGHT
BEGIN:STANDARD
TZOFFSETFROM:+0200
TZOFFSETTO:+0100
TZNAME:CET
DTSTART:20211031T010000
END:STANDARD
END:VTIMEZONE
BEGIN:VEVENT
DTSTART;TZID=Europe/Berlin:20200112T100000
DTEND;TZID=Europe/Berlin:20200112T170000
DTSTAMP:20260421T111250
CREATED:20191214T072453Z
LAST-MODIFIED:20191214T072453Z
UID:1367-1578823200-1578848400@svwersten.de
SUMMARY:Mannschaftskampf: SG Kaarst V vs. SV Wersten III
DESCRIPTION:Runde 5 im Mannschaftskampf. Diesmal spielt der SG Kaarst V gegen den SV Wersten III.
URL:https://svwersten.de/event/mannschaftskampf-sg-kaarst-v-vs-sv-wersten-iii/
LOCATION:SG Kaarst\, Am Schulzentrum 18\, Kaarst\, 41564\, Deutschland
CATEGORIES:Mannschaftskampf
ATTACH;FMTTYPE=image/jpeg:https://svwersten.de/wp-content/uploads/2019/09/werstenIII.jpg
ORGANIZER;CN="SG Kaarst":MAILTO:thorsten.braun@sg-kaarst.com
END:VEVENT
END:VCALENDAR